BEGIN:VCALENDAR
VERSION:2.0
PRODID:-//jEvents 2.0 for Joomla//EN
CALSCALE:GREGORIAN
METHOD:PUBLISH
BEGIN:VTIMEZONE
TZID:America/New_York
BEGIN:STANDARD
DTSTART:20231105T010000
RDATE:20240310T030000
TZOFFSETFROM:-0400
TZOFFSETTO:-0500
TZNAME:America/New_York EST
END:STANDARD
BEGIN:STANDARD
DTSTART:20241103T010000
RDATE:20250309T030000
TZOFFSETFROM:-0400
TZOFFSETTO:-0500
TZNAME:America/New_York EST
END:STANDARD
BEGIN:STANDARD
DTSTART:20251102T010000
RDATE:20260308T030000
TZOFFSETFROM:-0400
TZOFFSETTO:-0500
TZNAME:America/New_York EST
END:STANDARD
BEGIN:STANDARD
DTSTART:20261101T010000
RDATE:20270314T030000
TZOFFSETFROM:-0400
TZOFFSETTO:-0500
TZNAME:America/New_York EST
END:STANDARD
BEGIN:STANDARD
DTSTART:20271107T010000
RDATE:20280312T030000
TZOFFSETFROM:-0400
TZOFFSETTO:-0500
TZNAME:America/New_York EST
END:STANDARD
BEGIN:STANDARD
DTSTART:20281105T010000
RDATE:20290311T030000
TZOFFSETFROM:-0400
TZOFFSETTO:-0500
TZNAME:America/New_York EST
END:STANDARD
BEGIN:STANDARD
DTSTART:20291104T010000
RDATE:20300310T030000
TZOFFSETFROM:-0400
TZOFFSETTO:-0500
TZNAME:America/New_York EST
END:STANDARD
BEGIN:STANDARD
DTSTART:20301103T010000
RDATE:20310309T030000
TZOFFSETFROM:-0400
TZOFFSETTO:-0500
TZNAME:America/New_York EST
END:STANDARD
BEGIN:DAYLIGHT
DTSTART:20230403T090000
RDATE:20231105T010000
TZOFFSETFROM:-0500
TZOFFSETTO:-0400
TZNAME:America/New_York EDT
END:DAYLIGHT
BEGIN:DAYLIGHT
DTSTART:20240310T030000
RDATE:20241103T010000
TZOFFSETFROM:-0500
TZOFFSETTO:-0400
TZNAME:America/New_York EDT
END:DAYLIGHT
BEGIN:DAYLIGHT
DTSTART:20250309T030000
RDATE:20251102T010000
TZOFFSETFROM:-0500
TZOFFSETTO:-0400
TZNAME:America/New_York EDT
END:DAYLIGHT
BEGIN:DAYLIGHT
DTSTART:20260308T030000
RDATE:20261101T010000
TZOFFSETFROM:-0500
TZOFFSETTO:-0400
TZNAME:America/New_York EDT
END:DAYLIGHT
BEGIN:DAYLIGHT
DTSTART:20270314T030000
RDATE:20271107T010000
TZOFFSETFROM:-0500
TZOFFSETTO:-0400
TZNAME:America/New_York EDT
END:DAYLIGHT
BEGIN:DAYLIGHT
DTSTART:20280312T030000
RDATE:20281105T010000
TZOFFSETFROM:-0500
TZOFFSETTO:-0400
TZNAME:America/New_York EDT
END:DAYLIGHT
BEGIN:DAYLIGHT
DTSTART:20290311T030000
RDATE:20291104T010000
TZOFFSETFROM:-0500
TZOFFSETTO:-0400
TZNAME:America/New_York EDT
END:DAYLIGHT
BEGIN:DAYLIGHT
DTSTART:20300310T030000
RDATE:20301103T010000
TZOFFSETFROM:-0500
TZOFFSETTO:-0400
TZNAME:America/New_York EDT
END:DAYLIGHT
END:VTIMEZONE
BEGIN:VEVENT
UID:02a35b494156e30d6461029ec58d86f2
CATEGORIES:At Syracuse
CREATED:20240226T175212
SUMMARY:Heating & Venting Fundamentals
LOCATION:NYSWDA Training Center - East Syracuse
DESCRIPTION:Heating &amp; Venting Fundamentals \n
 \n
Training Location: NYSWDA Trainin
 g Center (Building 1) – 5869 Fisher Road, East Syracuse, NY 13057\n\nThis t
 raining is for;\nEntry level HVAC techs and auditors\n
 \n
Course Descripti
 on;\nThis is an introductory course that will teach fundamentals of heating
  systems and venting combustion appliances. The focus is to provide all per
 sonnel working in client homes, the knowledge to identify different classif
 ications of furnaces and boilers. Instruction on health and safety issues f
 or those working on venting systems and an explanation of which materials c
 an be used and which cannot. NFPA venting guidelines will be introduced so 
 that venting safety is built into the thought process. This training will a
 ssist technicians in identifying problems, repairing and analysis of ventin
 g systems in the field.\n\n
 \n
Agenda;\nMorning session - classroom presen
 tation\nAfternoon session - consists of hands-on lab training\n
 \n
Dates;\
 nApril 3, 2024 / 9:00am - 4:30pm\n
 \n
Prerequisites: \nNone\n
 \n
Class Si
 ze: 8\n
 \n
BPI CEU's; 3\n
 \n
Instructor; Dave Hill - HVAC instructor - NY
 SWDA\n
 \n
Course Fees: \n$262/person - NY Weatherization Sub-grantees\n
 $
 262/person - affiliate members\n
 $380/person - non-members\n
 \n
Course fe
 es do not include lunch.\n
ÂÂÂ \n
**Special note - if you wish to become an
  Affiliate Member, and save off the non-member rate, please contact Karen M
 cMahon (315-701-0440 ext. 223, This email address is being protected from s
 pambots. You need JavaScript enabled to view it.
				document.getElementByI
 d('cloak0b5c67d9031c06f26b4e37b4c5195c92').innerHTML = '';
				var prefix =
  'ma' + 'il' + 'to';
				var path = 'hr' + 'ef' + '=';
				var addy0b5c67d9
 031c06f26b4e37b4c5195c92 = 'kmcmahon' + '@';
				addy0b5c67d9031c06f26b4e37
 b4c5195c92 = addy0b5c67d9031c06f26b4e37b4c5195c92 + 'nyswda' + '.' + 'org';
 
				var addy_text0b5c67d9031c06f26b4e37b4c5195c92 = 'kmcmahon' + '@' + 'ny
 swda' + '.' + 'org';document.getElementById('cloak0b5c67d9031c06f26b4e37b4c
 5195c92').innerHTML += '<a ' + path + '\'' + prefix + ':' + addy0b5c67d9031
 c06f26b4e37b4c5195c92 + '\'>'+addy_text0b5c67d9031c06f26b4e37b4c5195c92+'';
 
		) BEFORE YOU REGISTER for the course.\n
 \n
Click here to register  (ind
 ex.php?option=com_civicrm&amp;task=civicrm/event/register&amp;reset=1&amp;i
 d=14297) \n
X-ALT-DESC;FMTTYPE=text/html:<p><span style="font-family: tahoma, arial, helvetica, sans-serif;"><em><sp
 an style="font-size: 13.5pt; color: #336699;"></span></em></span><strong><s
 pan style="color: #336699; font-family: tahoma, arial, helvetica, sans-seri
 f; font-size: 14pt;">Heating &amp; Venting Fundamentals </span></strong></p
 ><p>&nbsp;</p><p><strong><span style="color: #336699; font-family: tahoma, 
 arial, helvetica, sans-serif; font-size: 14pt;">Training</span><span style=
 "color: #336699; font-size: 13.5pt;"><span style="font-family: tahoma, aria
 l, helvetica, sans-serif; font-size: 14pt;"> Location: NYSWDA Training Cent
 er (Building 1) – 5869 Fisher Road, East Syracuse, NY 13057</span><br /><br
  /></span></strong><span style="font-family: tahoma, arial, helvetica, sans
 -serif; font-size: 12pt; color: #000000;"><em><span style="text-decoration:
  underline;"><span style="font-family: Tahoma;">This training is for;</span
 ></span></em><span style="font-family: Tahoma;"><span style="font-family: T
 ahoma;"><br /></span></span></span><span style="font-family: tahoma, arial,
  helvetica, sans-serif; font-size: 12pt; color: #000000;">Entry level HVAC 
 techs and auditors</span><span style="font-family: tahoma, arial, helvetica
 , sans-serif; font-size: 12pt; color: #000000;"><span style="font-family: T
 ahoma;"><span style="font-family: Tahoma;"><span style="font-family: Tahoma
 ;"><span style="font-family: Tahoma;"><span style="text-decoration: underli
 ne;"><em><span style="font-family: Tahoma;"></span></em></span></span></spa
 n></span></span></span></p><p>&nbsp;</p><p><span style="font-family: tahoma
 , arial, helvetica, sans-serif; font-size: 12pt; color: #000000;"><span sty
 le="font-family: Tahoma;"><span style="font-family: Tahoma;"><span style="f
 ont-family: Tahoma;"><span style="font-family: Tahoma;"><span style="text-d
 ecoration: underline;"><em><span style="font-family: Tahoma;">Course Descri
 ption;<br /></span></em></span></span></span></span></span></span><span sty
 le="font-family: tahoma, arial, helvetica, sans-serif; font-size: 12pt; col
 or: #000000;">This is an introductory course that will teach fundamentals o
 f heating systems and venting combustion appliances. The focus is to provid
 e all personnel working in client homes, the knowledge to identify differen
 t classifications of furnaces and boilers. Instruction on health and safety
  issues for those working on venting systems and an explanation of which ma
 terials can be used and which cannot. NFPA venting guidelines will be intro
 duced so that venting safety is built into the thought process. This traini
 ng will assist technicians in identifying problems, repairing and analysis 
 of venting systems in the field.<br /></span></p><p>&nbsp;</p><p><span styl
 e="color: #000000;"><span style="font-family: tahoma, arial, helvetica, san
 s-serif; font-size: 12pt;"><span style="font-family: Tahoma;"><span style="
 font-family: Tahoma;"><span style="font-family: Tahoma;"><span style="font-
 family: Tahoma;"><span style="font-family: Tahoma;"><span style="font-famil
 y: Tahoma;"><span style="font-family: Tahoma;"><span style="text-decoration
 : underline;"><em>Agenda;<br /></em></span></span></span></span></span></sp
 an></span></span></span><span style="font-family: tahoma, arial, helvetica,
  sans-serif; font-size: 12pt;">Morning session - classroom presentation<br 
 />Afternoon session - consists of hands-on lab training</span></span></p><p
 >&nbsp;</p><p><span style="color: #000000;"><span style="font-family: tahom
 a, arial, helvetica, sans-serif; font-size: 12pt;"><span style="font-family
 : Tahoma;"><span style="font-family: Tahoma;"><span style="font-family: Tah
 oma;"><span style="font-family: Tahoma;"><span style="font-family: Tahoma;"
 ><span style="font-family: Tahoma;"><span style="font-family: Tahoma;"><spa
 n style="text-decoration: underline;"><em>Dates;<br /></em></span><span sty
 le="font-family: Tahoma;">April 3, 2024 / 9:00am - 4:30pm</span></span></sp
 an></span></span></span></span></span></span></span></p><p>&nbsp;</p><p><sp
 an style="color: #000000;"><span style="font-family: tahoma, arial, helveti
 ca, sans-serif; font-size: 12pt;"><span style="font-family: Tahoma;"><span 
 style="font-family: Tahoma;"><span style="font-family: Tahoma;"><span style
 ="font-family: Tahoma;"><span style="font-family: Tahoma;"><span style="fon
 t-family: Tahoma;"><span style="font-family: Tahoma;"><span style="font-fam
 ily: Tahoma;"><span style="text-decoration: underline;"><em><span style="fo
 nt-family: Tahoma;">Prerequisites:</span></em></span><em><span style="font-
 family: Tahoma;"> <br /></span></em><span style="font-family: Tahoma;">None
 </span></span></span></span></span></span></span></span></span></span></spa
 n></p><p>&nbsp;</p><p><span style="color: #000000;"><span style="font-famil
 y: tahoma, arial, helvetica, sans-serif; font-size: 12pt;"><span style="fon
 t-family: Tahoma;"><span style="font-family: Tahoma;"><span style="font-fam
 ily: Tahoma;"><span style="font-family: Tahoma;"><span style="font-family: 
 Tahoma;"><span style="font-family: Tahoma;"><span style="font-family: Tahom
 a;"><span style="font-family: Tahoma;"><span style="font-family: Tahoma;"><
 span style="font-family: Tahoma;"><em><span style="text-decoration: underli
 ne;">Class Size</span></em>: 8</span></span></span></span></span></span></s
 pan></span></span></span></span></span></p><p>&nbsp;</p><p><span style="col
 or: #000000;"><span style="font-family: tahoma, arial, helvetica, sans-seri
 f; font-size: 12pt;"><span style="font-family: Tahoma;"><span style="font-f
 amily: Tahoma;"><span style="font-family: Tahoma;"><span style="font-family
 : Tahoma;"><span style="font-family: Tahoma;"><span style="font-family: Tah
 oma;"><span style="font-family: Tahoma;"><span style="font-family: Tahoma;"
 ><span style="font-family: Tahoma;"><span style="font-family: Tahoma;"><spa
 n style="text-decoration: underline;"><em>BPI</em></span><em><span style="t
 ext-decoration: underline;"> CEU's</span>;</em> 3</span></span></span></spa
 n></span></span></span></span></span></span></span></span></p><p>&nbsp;</p>
 <p><span style="color: #000000;"><span style="font-family: tahoma, arial, h
 elvetica, sans-serif; font-size: 12pt;"><span style="font-family: Tahoma;">
 <span style="font-family: Tahoma;"><span style="font-family: Tahoma;"><span
  style="font-family: Tahoma;"><span style="font-family: Tahoma;"><span styl
 e="font-family: Tahoma;"><span style="font-family: Tahoma;"><span style="fo
 nt-family: Tahoma;"><span style="font-family: Tahoma;"><span style="font-fa
 mily: Tahoma;"><span style="font-family: Tahoma;"><span style="text-decorat
 ion: underline;">Instructor</span>; Dave Hill</span><span style="font-famil
 y: Tahoma;">&nbsp;- HVAC instructor - NYSWDA</span></span></span></span></s
 pan></span></span></span></span></span></span></span></span></p><p>&nbsp;</
 p><p><span style="color: #000000;"><span style="font-family: tahoma, arial,
  helvetica, sans-serif; font-size: 12pt;"><span style="font-family: Tahoma;
 "><span style="font-family: Tahoma;"><span style="font-family: Tahoma;"><sp
 an style="font-family: Tahoma;"><span style="font-family: Tahoma;"><span st
 yle="font-family: Tahoma;"><span style="font-family: Tahoma;"><span style="
 font-family: Tahoma;"><span style="font-family: Tahoma;"><span style="font-
 family: Tahoma;"><span style="font-family: Tahoma;"><span style="text-decor
 ation: underline;">Cours</span><span style="text-decoration: underline;">e<
 em> Fees:</em></span><em>&nbsp;</em><br /><span style="font-family: Tahoma;
 ">$262/person</span><span style="font-family: Tahoma;"> - NY Weatherization
  Sub-grantees</span></span></span></span></span></span></span></span></span
 ></span></span></span></span></span></p><p><span style="font-family: tahoma
 , arial, helvetica, sans-serif; font-size: 12pt; color: #000000;"><span sty
 le="font-family: Tahoma;"><span style="font-family: Tahoma;"><span style="f
 ont-family: Tahoma;"><span style="font-family: Tahoma;"><span style="font-f
 amily: Tahoma;"><span style="font-family: Tahoma;"><span style="font-family
 : Tahoma;"><span style="font-family: Tahoma;"><span style="font-family: Tah
 oma;"><span style="font-family: Tahoma;"><span style="font-family: Tahoma;"
 ><span style="font-family: Tahoma;"> </span><span style="font-family: Tahom
 a;">$262/person</span><span style="font-family: Tahoma;"> - </span><span st
 yle="font-family: Tahoma;">affiliate members</span></span></span></span></s
 pan></span></span></span></span></span></span></span></span></p><p><span st
 yle="font-family: tahoma, arial, helvetica, sans-serif; font-size: 12pt; co
 lor: #000000;"><span style="font-family: Tahoma;"><span style="font-family:
  Tahoma;"><span style="font-family: Tahoma;"><span style="font-family: Taho
 ma;"><span style="font-family: Tahoma;"><span style="font-family: Tahoma;">
 <span style="font-family: Tahoma;"><span style="font-family: Tahoma;"><span
  style="font-family: Tahoma;"><span style="font-family: Tahoma;"><span styl
 e="font-family: Tahoma;"><span style="font-family: Tahoma;"> </span><span s
 tyle="font-family: Tahoma;">$380/person</span><span style="font-family: Tah
 oma;"> - </span><span style="font-family: Tahoma;">non-members</span></span
 ></span></span></span></span></span></span></span></span></span></span></sp
 an></p><p>&nbsp;</p><p><span style="color: #000000;"><em><span style="font-
 family: Tahoma; font-size: 12pt;"><strong>Course fees do not include lunch.
 </strong></span></em></span></p><p><span style="font-family: tahoma, arial,
  helvetica, sans-serif; font-size: 12pt; color: #ffffff;"><span><span style
 ="font-family: Tahoma;"><span style="font-family: Tahoma;"><span style="fon
 t-family: Tahoma;"><span style="font-family: Tahoma;"><span style="font-fam
 ily: Tahoma;"><span style="font-family: Tahoma;"><span style="font-family: 
 Tahoma;"><span style="font-family: Tahoma;"><span style="font-family: Tahom
 a;"><span style="font-family: Tahoma;"><span style="font-family: Tahoma;"><
 em><span style="font-family: Tahoma;">ÂÂÂ&nbsp;</span></em></span></span></
 span></span></span></span></span></span></span></span></span></span></span>
 </p><p style="margin-top: 0in; margin-right: 0in; margin-bottom: 0pt;"><str
 ong><i><span style="background: white; color: #02613f; font-family: Georgia
 , 'serif';"><span style="font-size: small;">**Special note</span></span></i
 ></strong><strong><i><span style="background: white; color: black; font-fam
 ily: Georgia, 'serif';"><span style="font-size: small;">&nbsp;-&nbsp;if you
  wish to become an Affiliate Member, and&nbsp;save off the non-member rate,
  please contact Karen McMahon (315-701-0440 ext. 223,&nbsp;</span><span id=
 "cloak0b5c67d9031c06f26b4e37b4c5195c92">This email address is being protect
 ed from spambots. You need JavaScript enabled to view it.</span><script typ
 e='text/javascript'>
				document.getElementById('cloak0b5c67d9031c06f26b4e
 37b4c5195c92').innerHTML = '';
				var prefix = 'ma' + 'il' + 'to';
				var
  path = 'hr' + 'ef' + '=';
				var addy0b5c67d9031c06f26b4e37b4c5195c92 = '
 kmcmahon' + '@';
				addy0b5c67d9031c06f26b4e37b4c5195c92 = addy0b5c67d9031
 c06f26b4e37b4c5195c92 + 'nyswda' + '.' + 'org';
				var addy_text0b5c67d903
 1c06f26b4e37b4c5195c92 = '<span style="color: #0000ff; font-size: small;">k
 mcmahon' + '@' + 'nyswda' + '.' + 'org</span>';document.getElementById('clo
 ak0b5c67d9031c06f26b4e37b4c5195c92').innerHTML += '<a ' + path + '\'' + pre
 fix + ':' + addy0b5c67d9031c06f26b4e37b4c5195c92 + '\'>'+addy_text0b5c67d90
 31c06f26b4e37b4c5195c92+'<\/a>';
		</script><span style="font-size: small;"
 >)&nbsp;</span></span></i></strong><span style="font-size: small;"><strong>
 <span style="background: white; color: #02613f; font-family: Georgia, 'seri
 f';">BEFORE YOU REGISTER&nbsp;</span></strong><em><b><span style="backgroun
 d: white; color: black; font-family: Georgia, 'serif';">for the course</spa
 n></b></em><strong><span style="background: white; color: black; font-famil
 y: Georgia, 'serif';">.</span></strong></span></p><p>&nbsp;</p><p><span sty
 le="color: #0000ff;"><em><strong><span style="font-family: tahoma, arial, h
 elvetica, sans-serif; font-size: 14pt;"><span style="font-family: tahoma, a
 rial, helvetica, sans-serif; font-size: 14pt;"><span style="font-family: ta
 homa, arial, helvetica, sans-serif; font-size: 14pt;"><a href="https://www.
 nyswda.org/index.php?option=com_civicrm&amp;task=civicrm/event/register&amp
 ;reset=1&amp;id=14297"><span style="color: #0000ff;"><span style="font-fami
 ly: tahoma, arial, helvetica, sans-serif; font-size: 14pt;"><span style="co
 lor: #0000ff;">Click here to register</span>&nbsp;</span></span></a><span s
 tyle="font-family: tahoma, arial, helvetica, sans-serif; font-size: 14pt;">
 </span><em></em><span style="color: #0000ff;"></span> </span></span><em></e
 m><span style="color: #0000ff;"></span></span></strong></em></span></p>
CONTACT:This email address is being protected from spambots. You need JavaScript enabled to view it.
				document.getElementById('cloak4f55ee9f315bee7239305a5e9c1dba1f').innerHTML = '';
				var prefix = '&#109;a' + 'i&#108;' + '&#116;o';
				var path = 'hr' + 'ef' + '=';
				var addy4f55ee9f315bee7239305a5e9c1dba1f = 'rv&#105;ss&#101;r' + '&#64;';
				addy4f55ee9f315bee7239305a5e9c1dba1f = addy4f55ee9f315bee7239305a5e9c1dba1f + 'nyswd&#97;' + '&#46;' + '&#111;rg';
				var addy_text4f55ee9f315bee7239305a5e9c1dba1f = 'rv&#105;ss&#101;r' + '&#64;' + 'nyswd&#97;' + '&#46;' + '&#111;rg';document.getElementById('cloak4f55ee9f315bee7239305a5e9c1dba1f').innerHTML += '<a ' + path + '\'' + prefix + ':' + addy4f55ee9f315bee7239305a5e9c1dba1f + '\'>'+addy_text4f55ee9f315bee7239305a5e9c1dba1f+'';
		
DTSTAMP:20260424T095642
DTSTART;TZID=America/New_York:20240403T090000
DTEND;TZID=America/New_York:20240403T160000
SEQUENCE:0
TRANSP:OPAQUE
END:VEVENT
END:VCALENDAR